BEGIN:VCALENDAR
VERSION:2.0
PRODID:-//The Fostering Collective - ECPv6.14.0//NONSGML v1.0//EN
CALSCALE:GREGORIAN
METHOD:PUBLISH
X-WR-CALNAME:The Fostering Collective
X-ORIGINAL-URL:https://thefosteringcollective.org
X-WR-CALDESC:Events for The Fostering Collective
REFRESH-INTERVAL;VALUE=DURATION:PT1H
X-Robots-Tag:noindex
X-PUBLISHED-TTL:PT1H
BEGIN:VTIMEZONE
TZID:UTC
BEGIN:STANDARD
TZOFFSETFROM:+0000
TZOFFSETTO:+0000
TZNAME:UTC
DTSTART:20260101T000000
END:STANDARD
END:VTIMEZONE
BEGIN:VEVENT
DTSTART;TZID=UTC:20260519T190000
DTEND;TZID=UTC:20260519T203000
DTSTAMP:20260420T140117
CREATED:20260416T014155Z
LAST-MODIFIED:20260416T014155Z
UID:821-1779217200-1779222600@thefosteringcollective.org
SUMMARY:Tyler Mom Collective
DESCRIPTION:Are you a mom who fosters\, has adopted\, or cares for children through kinship placement? Join us for our Mom Collective Community Group for the Tyler area! This supportive group is a welcoming space to connect with other moms who share similar journeys\, find encouragement\, and build lasting community. \nContact:Gloria Johnson at 903-253-9144 for more information.
URL:https://thefosteringcollective.org/event/tyler-mom-collective-15/
LOCATION:The Fostering Collective – Tyler Office\, 201 Winchester Drive\, Tyler\, 75701\, United States
ATTACH;FMTTYPE=image/png:https://thefosteringcollective.org/wp-content/uploads/2026/04/7.png
END:VEVENT
BEGIN:VEVENT
DTSTART;TZID=UTC:20260521T120000
DTEND;TZID=UTC:20260521T133000
DTSTAMP:20260420T140117
CREATED:20260416T014342Z
LAST-MODIFIED:20260416T014342Z
UID:823-1779364800-1779370200@thefosteringcollective.org
SUMMARY:Tyler Mom Collective
DESCRIPTION:Are you a mom who fosters\, has adopted\, or cares for children through kinship placement? Join us for our Mom Collective Community Group for the Tyler area! This supportive group is a welcoming space to connect with other moms who share similar journeys\, find encouragement\, and build lasting community. \nContact: \nLed by Laura Miller 903-253-9144 or laura@thefosteringcollective.org
URL:https://thefosteringcollective.org/event/tyler-mom-collective-16/
LOCATION:The Fostering Collective – Tyler Office\, 201 Winchester Drive\, Tyler\, 75701\, United States
ATTACH;FMTTYPE=image/png:https://thefosteringcollective.org/wp-content/uploads/2026/04/8.png
END:VEVENT
BEGIN:VEVENT
DTSTART;TZID=UTC:20260521T190000
DTEND;TZID=UTC:20260521T203000
DTSTAMP:20260420T140117
CREATED:20260416T013919Z
LAST-MODIFIED:20260416T013919Z
UID:819-1779390000-1779395400@thefosteringcollective.org
SUMMARY:Tyler Mom Collective
DESCRIPTION:Are you a mom who fosters\, has adopted\, or cares for children through kinship placement? Join us for our Mom Collective Community Group for the Tyler area! This supportive group is a welcoming space to connect with other moms who share similar journeys\, find encouragement\, and build lasting community. \nContact: \nLed by Tiffany Davault 903-253-9144 or tiffany@thefosteringcollective.org
URL:https://thefosteringcollective.org/event/tyler-mom-collective-14/
LOCATION:The Fostering Collective – Tyler Office\, 201 Winchester Drive\, Tyler\, 75701\, United States
ATTACH;FMTTYPE=image/png:https://thefosteringcollective.org/wp-content/uploads/2026/04/9.png
END:VEVENT
BEGIN:VEVENT
DTSTART;TZID=UTC:20260528T120000
DTEND;TZID=UTC:20260528T133000
DTSTAMP:20260420T140117
CREATED:20260416T014703Z
LAST-MODIFIED:20260416T014703Z
UID:827-1779969600-1779975000@thefosteringcollective.org
SUMMARY:Legacy House Mom Collective
DESCRIPTION:Are you a mom who fosters\, has adopted\, or cares for children through kinship placement? Join us for our Legacy House Mom Collective Community Group in the Henderson area! This supportive group is a welcoming space to connect with other moms who share similar journeys\, find encouragement\, and build lasting community. \nContact:Shana Moland at 903-646-7230 or by email\, shana@thefosteringcollective.org for more information.
URL:https://thefosteringcollective.org/event/legacy-house-mom-collective-8/
LOCATION:Legacy House\, 301 West Elk\, Henderson\, Texas
ATTACH;FMTTYPE=image/png:https://thefosteringcollective.org/wp-content/uploads/2026/04/11.png
END:VEVENT
BEGIN:VEVENT
DTSTART;TZID=UTC:20260528T190000
DTEND;TZID=UTC:20260528T203000
DTSTAMP:20260420T140117
CREATED:20260416T014824Z
LAST-MODIFIED:20260416T014824Z
UID:829-1779994800-1780000200@thefosteringcollective.org
SUMMARY:Legacy House Mom Collective
DESCRIPTION:Are you a mom who fosters\, has adopted\, or cares for children through kinship placement? Join us for our Legacy House Mom Collective Community Group in the Henderson area! This supportive group is a welcoming space to connect with other moms who share similar journeys\, find encouragement\, and build lasting community. \nContact:Shana Moland at 903-646-7230 or by email\, shana@thefosteringcollective.org for more information.
URL:https://thefosteringcollective.org/event/legacy-house-mom-collective-9/
LOCATION:Legacy House\, 301 West Elk\, Henderson\, Texas
ATTACH;FMTTYPE=image/png:https://thefosteringcollective.org/wp-content/uploads/2026/04/12.png
END:VEVENT
BEGIN:VEVENT
DTSTART;TZID=UTC:20260606T100000
DTEND;TZID=UTC:20260606T140000
DTSTAMP:20260420T140117
CREATED:20260416T015635Z
LAST-MODIFIED:20260416T015635Z
UID:831-1780740000-1780754400@thefosteringcollective.org
SUMMARY:Lake Day
DESCRIPTION:We invite all of our foster\, adoptive and kinship families out to Green Acres Baptist Church Retreat Center at Lake Tyler for a great day of fun in the sun on June 6th  from 10am-2pm.   We will have swimming\, boat rides\, water slides and more.  Bring your swimsuits\, sunscreen\, towels\, lawn chairs and join us for some food and fun. \nLunch will be provided. \nRegister Here
URL:https://thefosteringcollective.org/event/lake-day/
LOCATION:Green Acres Baptist Church Retreat Center\, 16163 N Peninsula Road\, Whitehouse\, Texas
ATTACH;FMTTYPE=image/png:https://thefosteringcollective.org/wp-content/uploads/2026/04/May-2026-Events.png
END:VEVENT
BEGIN:VEVENT
DTSTART;TZID=UTC:20260807T190500
DTEND;TZID=UTC:20260807T220000
DTSTAMP:20260420T140117
CREATED:20260416T020254Z
LAST-MODIFIED:20260416T020631Z
UID:835-1786129500-1786140000@thefosteringcollective.org
SUMMARY:Dad Collective Rangers Game
DESCRIPTION:Play ball! Grab your glove (or just your favorite ball cap) and join fellow foster\, adoptive\, and kinship dads for a night at the ballpark as the Texas Rangers take the field on Friday\, August 7th at 7:05 PM. More details on departure from Tyler and travel plans are coming soon. It’s the perfect chance to relax\, have some fun\, and connect with other dads who get it—you won’t want to miss this one! \nRegister Here
URL:https://thefosteringcollective.org/event/dad-collective-rangers-game/
LOCATION:Globe Life Field\, 734 Stadium Dr E\, Arlington\, Texas\, 76011
ATTACH;FMTTYPE=image/png:https://thefosteringcollective.org/wp-content/uploads/2026/04/May-2026-Events-1.png
END:VEVENT
END:VCALENDAR