BEGIN:VCALENDAR
VERSION:2.0
PRODID:-//The Fostering Collective - ECPv6.14.0//NONSGML v1.0//EN
CALSCALE:GREGORIAN
METHOD:PUBLISH
X-WR-CALNAME:The Fostering Collective
X-ORIGINAL-URL:https://thefosteringcollective.org
X-WR-CALDESC:Events for The Fostering Collective
REFRESH-INTERVAL;VALUE=DURATION:PT1H
X-Robots-Tag:noindex
X-PUBLISHED-TTL:PT1H
BEGIN:VTIMEZONE
TZID:UTC
BEGIN:STANDARD
TZOFFSETFROM:+0000
TZOFFSETTO:+0000
TZNAME:UTC
DTSTART:20250101T000000
END:STANDARD
END:VTIMEZONE
BEGIN:VEVENT
DTSTART;TZID=UTC:20250915T120000
DTEND;TZID=UTC:20250915T130000
DTSTAMP:20260425T152137
CREATED:20250818T164508Z
LAST-MODIFIED:20250911T231043Z
UID:450-1757937600-1757941200@thefosteringcollective.org
SUMMARY:NEW Parents of Teens Group
DESCRIPTION:Parenting teens is hard.  Parenting those exposed to trauma is even harder.  Join us each month to talk about the challenges we face.  There is HOPE!  Join us virtually. \nJoin Virtually Here \nMeeting ID: 863 9181 8498/Passcode: 043459
URL:https://thefosteringcollective.org/event/new-virtual-groups-3/
LOCATION:Virtual
ATTACH;FMTTYPE=image/jpeg:https://thefosteringcollective.org/wp-content/uploads/2025/08/4-scaled.jpg
END:VEVENT
BEGIN:VEVENT
DTSTART;TZID=UTC:20250912T120000
DTEND;TZID=UTC:20250912T130000
DTSTAMP:20260425T152137
CREATED:20250818T164651Z
LAST-MODIFIED:20250825T022137Z
UID:451-1757678400-1757682000@thefosteringcollective.org
SUMMARY:NEW Foster Parents Only Group
DESCRIPTION:This community group is for foster parents only. \nJoin Virtually Here \nMeeting ID: 863 9181 8498/Passcode: 043459
URL:https://thefosteringcollective.org/event/new-virtual-groups-4/
LOCATION:Virtual
ATTACH;FMTTYPE=image/jpeg:https://thefosteringcollective.org/wp-content/uploads/2025/08/5-scaled.jpg
END:VEVENT
BEGIN:VEVENT
DTSTART;TZID=UTC:20250911T180000
DTEND;TZID=UTC:20250911T200000
DTSTAMP:20260425T152137
CREATED:20250818T170435Z
LAST-MODIFIED:20250909T174039Z
UID:458-1757613600-1757620800@thefosteringcollective.org
SUMMARY:Tyler Dad Collective
DESCRIPTION:Led by Steve Alberts. Please contact Steve by phone at 903-253-9144 or email at steve@thefosteringcollective.org for more information.
URL:https://thefosteringcollective.org/event/tyler-dad-collective/
LOCATION:The Fostering Collective – Tyler Office\, 201 Winchester Drive\, Tyler\, 75701\, United States
ATTACH;FMTTYPE=image/png:https://thefosteringcollective.org/wp-content/uploads/2025/08/September-2025-Events-2.png
END:VEVENT
BEGIN:VEVENT
DTSTART;TZID=UTC:20250908T190000
DTEND;TZID=UTC:20250908T203000
DTSTAMP:20260425T152137
CREATED:20250818T165739Z
LAST-MODIFIED:20250818T165739Z
UID:456-1757358000-1757363400@thefosteringcollective.org
SUMMARY:Cherokee County Mom Collective
DESCRIPTION:Led by Dusti Stark and Ruth Babel. Please reach out to Dusti by phone at 514-295-2486 or email at dusti@extendinggrace.us for more information.
URL:https://thefosteringcollective.org/event/cherokee-county-mom-collective/
LOCATION:Fostering Bridges\, 1565 FM 2493E\, Bullard\, TX\, 75757\, United States
ATTACH;FMTTYPE=image/jpeg:https://thefosteringcollective.org/wp-content/uploads/2025/08/7-scaled.jpg
END:VEVENT
BEGIN:VEVENT
DTSTART;TZID=UTC:20250908T173000
DTEND;TZID=UTC:20250908T190000
DTSTAMP:20260425T152137
CREATED:20250818T163604Z
LAST-MODIFIED:20250821T151840Z
UID:430-1757352600-1757358000@thefosteringcollective.org
SUMMARY:Family Collective
DESCRIPTION:“Lions and tigers and bears\, oh my!” Many of us may recall this phrase from Wizard of Oz – Scarecrow as they consider all the dangers they could encounter in the forest on the way to the Emerald City. That phrase has been around since 1900 when the author penned The Wonderful Wizard of Oz. \nRaising kids in this digital age can often be overwhelming. Within the landscape of today’s culture – the “lions\, tigers\, and bears” can refer to the unknown dangers awaiting us on the other side of our digital screens. Smith County Investigation\, Tim McDonald\, will be sharing ways to keep our kids safe with the adults at Family Collective September 8th. Meanwhile\, kids from pre-k to high school will learn strategies to protect themselves in a fun\, playful environment. \nOur Family Collective is our monthly support group for foster\, adoptive and kinship families.  Each month\, we gather together for pizza\, salad\, and then break off into sessions pending age/grade.  Each session is led by local therapists who are trauma informed and want to support our families. \nDinner will be served from 5:30-6:00pm. Sessions will run from 6:00 – 7pm. \nRegister Here
URL:https://thefosteringcollective.org/event/family-collective/
LOCATION:South Spring Baptist Church\, 17002 US-69\, Tyler\, TX\, 75703\, United States
ATTACH;FMTTYPE=image/jpeg:https://thefosteringcollective.org/wp-content/uploads/2025/08/1-scaled.jpg
END:VEVENT
BEGIN:VEVENT
DTSTART;TZID=UTC:20250905T120000
DTEND;TZID=UTC:20250905T130000
DTSTAMP:20260425T152137
CREATED:20250818T164307Z
LAST-MODIFIED:20250905T160730Z
UID:449-1757073600-1757077200@thefosteringcollective.org
SUMMARY:NEW Group for New Foster Parents
DESCRIPTION:If you are new to the foster care journey we gave a community group just for you. \nJoin Virtually Here \nMeeting ID: 863 9181 8498/Passcode: 043459
URL:https://thefosteringcollective.org/event/new-virtual-groups-2/
LOCATION:Virtual
ATTACH;FMTTYPE=image/jpeg:https://thefosteringcollective.org/wp-content/uploads/2025/08/3-scaled.jpg
END:VEVENT
BEGIN:VEVENT
DTSTART;TZID=UTC:20250902T120000
DTEND;TZID=UTC:20250902T130000
DTSTAMP:20260425T152137
CREATED:20250818T164053Z
LAST-MODIFIED:20250825T022315Z
UID:447-1756814400-1756818000@thefosteringcollective.org
SUMMARY:NEW Couples in Crisis Group
DESCRIPTION:Is your family in crisis?  We have a community group meeting each month virtually for couples that are in the trenches.  Please don’t isolate. \nJoin Virtually Here \nMeeting ID: 863 9181 8498/Passcode: 043459
URL:https://thefosteringcollective.org/event/new-virtual-groups/
LOCATION:Virtual
ATTACH;FMTTYPE=image/jpeg:https://thefosteringcollective.org/wp-content/uploads/2025/08/2-scaled.jpg
END:VEVENT
BEGIN:VEVENT
DTSTART;VALUE=DATE:20250902
DTEND;VALUE=DATE:20250903
DTSTAMP:20260425T152137
CREATED:20250818T165302Z
LAST-MODIFIED:20250818T171346Z
UID:454-1756771200-1756857599@thefosteringcollective.org
SUMMARY:Mt. Pleasant Mom Collective
DESCRIPTION:Led by Jenn Tosh.  Please reach out to Jenn via phone at 903-285-1584 or email at jenn@thefosteringcollective.org for more information.
URL:https://thefosteringcollective.org/event/mt-pleasant-mom-collective-2/
LOCATION:The Fostering Collective – Mt. Pleasant Office\, 217 N Jefferson SUITE 2\, Mt Pleasant\, TX\, 75455\, United States
ATTACH;FMTTYPE=image/jpeg:https://thefosteringcollective.org/wp-content/uploads/2025/08/6-scaled.jpg
END:VEVENT
BEGIN:VEVENT
DTSTART;TZID=UTC:20250828T180000
DTEND;TZID=UTC:20250828T200000
DTSTAMP:20260425T152137
CREATED:20250818T230148Z
LAST-MODIFIED:20250818T230937Z
UID:473-1756404000-1756411200@thefosteringcollective.org
SUMMARY:A Seat at the Table Banquet
DESCRIPTION:We believe that everyone has a seat at the table. In East Texas over 1\,300 children are in foster care\, walking through one of the hardest seasons of their lives. The Fostering Collective exists to recruit and shepherd Christ-centered families in East Texas to help children in foster care. \nJoin us as we raise the necessary funds to provide tangible resources\, advocacy efforts\, and trauma support along with community that’s needed to help children in foster care to become all that God made them to be. During this evening\, we will also recognize Founding Board President\, Rocky Gill\, as well as a special foster family. Come learn more about how you can partner and give hope to children in foster care\, so they always have A Seat at the Table. \nIf you have questions regarding sponsorship opportunities\, please contact: Justin Hayes\, Executive Director of The Fostering Collective by email at justin@thefosteringcollective.org or by calling 903-372-4547. \nWe look forward to partnering with you and bringing hope to children in foster care together\, so every child has A Seat at the Table.
URL:https://thefosteringcollective.org/event/a-seat-at-the-table-banquet/
LOCATION:Green Acres Baptist Church Crosswalk Conference Center\, 1607 Troup Highway\, Tyler\, TX\, 75701\, United States
ATTACH;FMTTYPE=image/png:https://thefosteringcollective.org/wp-content/uploads/2025/08/foco.png
END:VEVENT
BEGIN:VEVENT
DTSTART;TZID=UTC:20250823T100000
DTEND;TZID=UTC:20250823T120000
DTSTAMP:20260425T152137
CREATED:20250818T225652Z
LAST-MODIFIED:20250821T151708Z
UID:470-1755943200-1755950400@thefosteringcollective.org
SUMMARY:Mom Collective Brunch
DESCRIPTION:Foster\, adoptive\, and kinship moms join us for some much needed girl time as we celebrate the end of summer and getting back to school. Our own Shepherding Director\, Christi Sowell\, will bring an inspirational message to help us kick off the school year. This is one of our favorite times for all our moms to come together. You don’t want to miss it. \nRegister Here: https://secure.qgiv.com/for/shepherdingevents/event/momcollectivebrunch/ \n 
URL:https://thefosteringcollective.org/event/mom-collective-brunch/
LOCATION:KVNE\, 7695 Old Jacksonville Hwy\, Tyler\, TX\, 75703\, United States
ATTACH;FMTTYPE=image/png:https://thefosteringcollective.org/wp-content/uploads/2025/08/moms.png
END:VEVENT
BEGIN:VEVENT
DTSTART;TZID=UTC:20250801T170000
DTEND;TZID=UTC:20250801T190000
DTSTAMP:20260425T152137
CREATED:20250627T192022Z
LAST-MODIFIED:20250703T235358Z
UID:384-1754067600-1754074800@thefosteringcollective.org
SUMMARY:Back to School Bash
DESCRIPTION:Foster\, adoptive and kinship families join us for a great night of food\, fun and fellowship before we head back to school.  We will be passing out school supplies graciously collected and donated by Smith County Child Welfare Board. Come get all the supplies you need as you prepare for the upcoming school year. \nPlease register to attend: https://secure.qgiv.com/for/shepherdingevents/event/backtoschoolbash \nTo volunteer for this event\, please follow this link: https://volunteer.bloomerang.co/JE/a216wu250wepgq
URL:https://thefosteringcollective.org/event/back-to-school-bash/
LOCATION:Green Acres Baptist Church Student Center\, 1607 Troup Hwy\, Tyler\, 75703\, United States
ATTACH;FMTTYPE=image/png:https://thefosteringcollective.org/wp-content/uploads/2025/06/unnamed-4.png
END:VEVENT
BEGIN:VEVENT
DTSTART;TZID=UTC:20250722T090000
DTEND;TZID=UTC:20250722T140000
DTSTAMP:20260425T152137
CREATED:20250627T191829Z
LAST-MODIFIED:20250703T235445Z
UID:381-1753174800-1753192800@thefosteringcollective.org
SUMMARY:Connecting in the Outdoors @ Elijah’s Retreat
DESCRIPTION:Join us for a day of adventure\, connection\, and outdoor fun at Elijah’s Retreat at no cost to you! \nFamilies will arrive at 9:00 AM and have time to sign up for a variety of activity stations before we officially kick things off at 9:30 AM. Horse rides are only available in the morning and are first come\, first served. Be sure to arrive at 9:00 to sign up for that activity. You can choose to come just for the morning\, just for the afternoon\, or stay and play all day. EVENT ENDS AT 2:00 pm. \nEnjoy hands-on experiences like:\n🐴 Horse Rides\n🐮 Ranch Hand Experience & Animal Encounters\n🐣 Baby Animal Petting Station\n🌿 Sensory Garden Exploration\n🥾 Retreat Nature Hike\n🎈 Jumping Pillow Fun\n🚂 Playground + Barrel Train Rides\n🏀 Possible Courtside Fun (Basketball & Pickleball) \nBring your own picnic lunch for your family. Water will be provided. \nTIPS for a great time in the outdoors:\n☀️ Bring a hat (even if your kiddo doesn’t like to wear one\, have it on hand)\n☀️ Extra set of clothes\n☀️ Sunblock\n☀️ Your favorite picnic lunch and blanket to sit on (tables are also available) \nThis special day is designed with foster\, adoptive\, and kinship families in mind—creating moments of joy\, peace\, and play in a beautiful retreat setting. Activities will wrap up at 2:00 PM. We can’t wait to see you there! \n✅ Register Here: https://secure.qgiv.com/for/shepherdingevents/event/connectingintheoutdoorselijahsretreat/ \n✅ Please click the link below to sign the required waiver to participate in activities:\nhttps://elijahs-retreat.checkfront.com/reserve/document/?template_id=3&id=CMHL-270325
URL:https://thefosteringcollective.org/event/connecting-in-the-outdoors-elijahs-retreat/
LOCATION:Elijah’s Retreat\, 257 County Road 3110\, Jacksonville\, TX\, 75766\, United States
ATTACH;FMTTYPE=image/png:https://thefosteringcollective.org/wp-content/uploads/2025/06/unnamed-1.png
END:VEVENT
BEGIN:VEVENT
DTSTART;TZID=UTC:20250721T170000
DTEND;TZID=UTC:20250721T200000
DTSTAMP:20260425T152137
CREATED:20250627T191636Z
LAST-MODIFIED:20250703T235244Z
UID:378-1753117200-1753128000@thefosteringcollective.org
SUMMARY:Babysitter Training
DESCRIPTION:We are excited to offer a one time training that we partner with local child placing agencies to certify sitters for foster families.  Participating agencies include 4Kids4Families\, Arrow\, Bair\, Rekindle\, TBHC\, Methodist Children’s Home\, Grace Manor\, Christian Homes\, Azleway\, UpBring\, Hope Haven\, Buckner\, Compass Connection and Noble. \nFirst Aid and CPR begins promptly at 5pm and the class starts at 6:00. Dinner will be provided for those attending in person. \nOnce you have attended this training\, completed all the paperwork and become Infant and Child CPR and First Aid you will be able to serve families for up to 72 hours.  You must be 21 or older. \nWe are offering an option to attend Virtually via Zoom. Please choose that option at check out. \nIf you need CPR/First Aid\, you will need to pay an additional $50 to E&E Heartsavers.  Their Venmo is Nancy-Elliott-CPR.  Then text Nancy at 903-714-5101 your name and email address to get started on the online portion of the course. The hands on portion of the CPR/First Aid will begin at 5:00.   \n🗓️ Register to attend:
URL:https://thefosteringcollective.org/event/babysitter-training/
LOCATION:The Fostering Collective – Tyler Office\, 201 Winchester Drive\, Tyler\, 75701\, United States
ATTACH;FMTTYPE=image/png:https://thefosteringcollective.org/wp-content/uploads/2025/06/unnamed.png
END:VEVENT
BEGIN:VEVENT
DTSTART;TZID=UTC:20250707T100000
DTEND;TZID=UTC:20250707T113000
DTSTAMP:20260425T152137
CREATED:20250627T191411Z
LAST-MODIFIED:20250703T235544Z
UID:375-1751882400-1751887800@thefosteringcollective.org
SUMMARY:Play it Out Sensory Walk – Mt Pleasant
DESCRIPTION:✅ Register Here: https://secure.qgiv.com/for/shepherdingevents/event/playitoutsensorywalkcopy/ \nInteroception is sometimes known as the “8th sense”. What is it? \nInteroception is the sense of your body’s internal state. Many times trauma hijacks our body’s ability to interpret internal signals and big behaviors take over. During Play it Out we will integrate interoception-focused activities into play for parents and children to experience together. This approach not only benefits the child but also strengthens the parent-child bond through shared understanding and communication.
URL:https://thefosteringcollective.org/event/play-it-out-sensory-walk-mt-pleasant/
LOCATION:First Baptist Church – Mt Pleasant\, 2201 Hwy 49\, Mt. Pleasant\, TX\, 75455\, United States
ATTACH;FMTTYPE=image/png:https://thefosteringcollective.org/wp-content/uploads/2025/06/unnamed-3.png
END:VEVENT
BEGIN:VEVENT
DTSTART;TZID=UTC:20250701T100000
DTEND;TZID=UTC:20250701T113000
DTSTAMP:20260425T152137
CREATED:20250627T191151Z
LAST-MODIFIED:20250703T235115Z
UID:372-1751364000-1751369400@thefosteringcollective.org
SUMMARY:Play it Out Sensory Walk- Henderson
DESCRIPTION:✅ Register Here: https://secure.qgiv.com/for/shepherdingevents/event/playitoutmtpleasantcopy/ \nInteroception is sometimes known as the “8th sense”.  What is it? \nInteroceptoin is the sense of your body’s internal state.  Many times trauma hijacks our body’s ability to interpret internal signals and big behaviors take over.  During Play it Out we will integrate interoception-focused activities into play for parents and children to experience together.  This approach not only benefits the child but also strengthens the parent-child bond through shared understanding and communication.  Come play!
URL:https://thefosteringcollective.org/event/play-it-out-sensory-walk/
LOCATION:First Presbyterian Church\, First Presbyterian Church 311 S High Street\, Henderson\, 75654\, United States
ATTACH;FMTTYPE=image/png:https://thefosteringcollective.org/wp-content/uploads/2025/06/unnamed-2.png
END:VEVENT
BEGIN:VEVENT
DTSTART;TZID=UTC:20250411T120000
DTEND;TZID=UTC:20250411T133000
DTSTAMP:20260425T152137
CREATED:20250408T190340Z
LAST-MODIFIED:20250408T204132Z
UID:292-1744372800-1744378200@thefosteringcollective.org
SUMMARY:Mt Pleasant Mom Collective
DESCRIPTION:A community of foster\, adoptive and kinship moms supporting and encouraging each other. To Join\, please reach out to Jenn Tosh at 903-285-1584 or email jenn@thefosteringcollective.org.
URL:https://thefosteringcollective.org/event/mt-pleasant-mom-collective/
LOCATION:The Fostering Collective – Mt. Pleasant Office\, 217 N Jefferson SUITE 2\, Mt Pleasant\, TX\, 75455\, United States
ATTACH;FMTTYPE=image/jpeg:https://thefosteringcollective.org/wp-content/uploads/2025/04/MPMomCollective.jpg
END:VEVENT
END:VCALENDAR